BEGIN:VCALENDAR
VERSION:2.0
PRODID:-//Over Stowey Parish Council//Meeting Calendar//EN
CALSCALE:GREGORIAN
METHOD:PUBLISH
BEGIN:VEVENT
UID:72418-20260128@overstoweyparishcouncil.gov.uk
DTSTAMP:20260423T084223Z
DTSTART;VALUE=DATE:20260128
DTEND;VALUE=DATE:20260129
SUMMARY:Special Planning Meeting &#8211\\; February 3rd 2026
DESCRIPTION:Special planning Meeting\nView details: https://overstoweyparishcouncil.gov.uk/meetings/special-planning-meeting-february-3rd-2026/
URL:https://overstoweyparishcouncil.gov.uk/meetings/special-planning-meeting-february-3rd-2026/
END:VEVENT
END:VCALENDAR
