BEGIN:VCALENDAR
VERSION:2.0
PRODID:-//Over Stowey Parish Council//Meeting Calendar//EN
CALSCALE:GREGORIAN
METHOD:PUBLISH
BEGIN:VEVENT
UID:70395-20220216@overstoweyparishcouncil.gov.uk
DTSTAMP:20260422T102957Z
DTSTART;VALUE=DATE:20220216
DTEND;VALUE=DATE:20220217
SUMMARY:Council Meeting &#8211\\; 16th February 2022
DESCRIPTION:Full Council Meeting\nView details: https://overstoweyparishcouncil.gov.uk/meetings/council-meeting-16th-february-2022/
URL:https://overstoweyparishcouncil.gov.uk/meetings/council-meeting-16th-february-2022/
END:VEVENT
END:VCALENDAR
