BEGIN:VCALENDAR
VERSION:2.0
PRODID:-//Over Stowey Parish Council//Meeting Calendar//EN
CALSCALE:GREGORIAN
METHOD:PUBLISH
BEGIN:VEVENT
UID:70385-20220615@overstoweyparishcouncil.gov.uk
DTSTAMP:20260423T083917Z
DTSTART;VALUE=DATE:20220615
DTEND;VALUE=DATE:20220616
SUMMARY:Council Meeting &#8211\\; 15th June 2022
DESCRIPTION:Full Council Meeting\nView details: https://overstoweyparishcouncil.gov.uk/meetings/council-meeting-15th-june-2022/
URL:https://overstoweyparishcouncil.gov.uk/meetings/council-meeting-15th-june-2022/
END:VEVENT
END:VCALENDAR
